BEGIN:VCALENDAR
VERSION:2.0
PRODID:-//66. PTO Brabrouci - ECPv6.15.13//NONSGML v1.0//EN
CALSCALE:GREGORIAN
METHOD:PUBLISH
X-WR-CALNAME:66. PTO Brabrouci
X-ORIGINAL-URL:https://brabrouci.cz
X-WR-CALDESC:Akce na 66. PTO Brabrouci
REFRESH-INTERVAL;VALUE=DURATION:PT1H
X-Robots-Tag:noindex
X-PUBLISHED-TTL:PT1H
BEGIN:VTIMEZONE
TZID:Europe/Prague
BEGIN:DAYLIGHT
TZOFFSETFROM:+0100
TZOFFSETTO:+0200
TZNAME:CEST
DTSTART:20240331T010000
END:DAYLIGHT
BEGIN:STANDARD
TZOFFSETFROM:+0200
TZOFFSETTO:+0100
TZNAME:CET
DTSTART:20241027T010000
END:STANDARD
BEGIN:DAYLIGHT
TZOFFSETFROM:+0100
TZOFFSETTO:+0200
TZNAME:CEST
DTSTART:20250330T010000
END:DAYLIGHT
BEGIN:STANDARD
TZOFFSETFROM:+0200
TZOFFSETTO:+0100
TZNAME:CET
DTSTART:20251026T010000
END:STANDARD
BEGIN:DAYLIGHT
TZOFFSETFROM:+0100
TZOFFSETTO:+0200
TZNAME:CEST
DTSTART:20260329T010000
END:DAYLIGHT
BEGIN:STANDARD
TZOFFSETFROM:+0200
TZOFFSETTO:+0100
TZNAME:CET
DTSTART:20261025T010000
END:STANDARD
END:VTIMEZONE
BEGIN:VEVENT
DTSTART;TZID=Europe/Prague:20250222T065500
DTEND;TZID=Europe/Prague:20250222T184600
DTSTAMP:20260419T223037
CREATED:20240916T091023Z
LAST-MODIFIED:20250206T071230Z
UID:5801-1740207300-1740249960@brabrouci.cz
SUMMARY:Zabíjená
DESCRIPTION:Na akci se už přihlásili:Svízel  Erik  Anče  Jakub  Sofie  Hříbě  Markétka  Naďa  ŠIMON +Ondra+Kuba  Vojta  Míša  Zvěd  Maky  Sultán  Jakub  Filip  Eda  Krzek a Batman  Emma a Nella  Verča  Sašetka  Berto  Budík  Domněnka  Žirafka
URL:https://brabrouci.cz/akce/zabijena/
END:VEVENT
END:VCALENDAR