BEGIN:VCALENDAR
VERSION:2.0
PRODID:-//66. PTO Brabrouci - ECPv6.15.13//NONSGML v1.0//EN
CALSCALE:GREGORIAN
METHOD:PUBLISH
X-WR-CALNAME:66. PTO Brabrouci
X-ORIGINAL-URL:https://brabrouci.cz
X-WR-CALDESC:Akce na 66. PTO Brabrouci
REFRESH-INTERVAL;VALUE=DURATION:PT1H
X-Robots-Tag:noindex
X-PUBLISHED-TTL:PT1H
BEGIN:VTIMEZONE
TZID:Europe/Prague
BEGIN:DAYLIGHT
TZOFFSETFROM:+0100
TZOFFSETTO:+0200
TZNAME:CEST
DTSTART:20190331T010000
END:DAYLIGHT
BEGIN:STANDARD
TZOFFSETFROM:+0200
TZOFFSETTO:+0100
TZNAME:CET
DTSTART:20191027T010000
END:STANDARD
BEGIN:DAYLIGHT
TZOFFSETFROM:+0100
TZOFFSETTO:+0200
TZNAME:CEST
DTSTART:20200329T010000
END:DAYLIGHT
BEGIN:STANDARD
TZOFFSETFROM:+0200
TZOFFSETTO:+0100
TZNAME:CET
DTSTART:20201025T010000
END:STANDARD
BEGIN:DAYLIGHT
TZOFFSETFROM:+0100
TZOFFSETTO:+0200
TZNAME:CEST
DTSTART:20210328T010000
END:DAYLIGHT
BEGIN:STANDARD
TZOFFSETFROM:+0200
TZOFFSETTO:+0100
TZNAME:CET
DTSTART:20211031T010000
END:STANDARD
BEGIN:DAYLIGHT
TZOFFSETFROM:+0100
TZOFFSETTO:+0200
TZNAME:CEST
DTSTART:20220327T010000
END:DAYLIGHT
BEGIN:STANDARD
TZOFFSETFROM:+0200
TZOFFSETTO:+0100
TZNAME:CET
DTSTART:20221030T010000
END:STANDARD
BEGIN:DAYLIGHT
TZOFFSETFROM:+0100
TZOFFSETTO:+0200
TZNAME:CEST
DTSTART:20230326T010000
END:DAYLIGHT
BEGIN:STANDARD
TZOFFSETFROM:+0200
TZOFFSETTO:+0100
TZNAME:CET
DTSTART:20231029T010000
END:STANDARD
BEGIN:DAYLIGHT
TZOFFSETFROM:+0100
TZOFFSETTO:+0200
TZNAME:CEST
DTSTART:20240331T010000
END:DAYLIGHT
BEGIN:STANDARD
TZOFFSETFROM:+0200
TZOFFSETTO:+0100
TZNAME:CET
DTSTART:20241027T010000
END:STANDARD
BEGIN:DAYLIGHT
TZOFFSETFROM:+0100
TZOFFSETTO:+0200
TZNAME:CEST
DTSTART:20250330T010000
END:DAYLIGHT
BEGIN:STANDARD
TZOFFSETFROM:+0200
TZOFFSETTO:+0100
TZNAME:CET
DTSTART:20251026T010000
END:STANDARD
END:VTIMEZONE
BEGIN:VEVENT
DTSTART;TZID=Europe/Prague:20240622T090000
DTEND;TZID=Europe/Prague:20240622T170000
DTSTAMP:20260420T040653
CREATED:20231211T152827Z
LAST-MODIFIED:20240607T111410Z
UID:5288-1719046800-1719075600@brabrouci.cz
SUMMARY:Závěrečný výlet
DESCRIPTION:Na akci se už přihlásili:minidino  Edgar  Bara  ŠIMON  Sofie  Eliška
URL:https://brabrouci.cz/akce/zaverecny-vylet/
END:VEVENT
BEGIN:VEVENT
DTSTART;TZID=Europe/Prague:20240619T160000
DTEND;TZID=Europe/Prague:20240619T200000
DTSTAMP:20260420T040653
CREATED:20240116T074306Z
LAST-MODIFIED:20240607T111042Z
UID:5365-1718812800-1718827200@brabrouci.cz
SUMMARY:Vítání léta
DESCRIPTION:
URL:https://brabrouci.cz/akce/vitani-leta/
END:VEVENT
BEGIN:VEVENT
DTSTART;TZID=Europe/Prague:20240615T100000
DTEND;TZID=Europe/Prague:20240615T130000
DTSTAMP:20260420T040653
CREATED:20240612T100342Z
LAST-MODIFIED:20240612T100342Z
UID:5648-1718445600-1718456400@brabrouci.cz
SUMMARY:Otevřená klubovna Brabrouků
DESCRIPTION:I my se zapojíme do oslav 30 let města Modřice a otevřeme svoji klubovnu k nahlédnutí veřejnosti. Přijďte se k nám podívat a dozvědět se něco o naší činnosti\, prohlédnout si kroniky či rekvizity z našich táborů nebo třeba výrobky výtvarného klubu Babinec\, který také pod naši pionýrskou skupinu spadá.\nTěšíme se na Vaši návštěvu!
URL:https://brabrouci.cz/akce/otevrena-klubovna-brabrouku/
END:VEVENT
BEGIN:VEVENT
DTSTART;TZID=Europe/Prague:20240524T000000
DTEND;TZID=Europe/Prague:20240526T235959
DTSTAMP:20260420T040653
CREATED:20231211T152536Z
LAST-MODIFIED:20240522T070218Z
UID:5284-1716508800-1716767999@brabrouci.cz
SUMMARY:Sraz PTO
DESCRIPTION:Na akci se už přihlásili:Marie  sultán  Tom  Sašetka a Berto  Budík  Míša  ŠIMON  Žirafka  Lukaš  Maky  Jakub  Erik  Danča  Ance  Betmen  Míša  Gabriela  Hříbě  Ance
URL:https://brabrouci.cz/akce/sraz-pto/
END:VEVENT
BEGIN:VEVENT
DTSTART;TZID=Europe/Prague:20240518T083000
DTEND;TZID=Europe/Prague:20240518T160000
DTSTAMP:20260420T040653
CREATED:20240116T073659Z
LAST-MODIFIED:20240513T111924Z
UID:5361-1716021000-1716048000@brabrouci.cz
SUMMARY:Výlet mladších družinek
DESCRIPTION:
URL:https://brabrouci.cz/akce/vylet-mladsich-druzinek/
END:VEVENT
BEGIN:VEVENT
DTSTART;TZID=Europe/Prague:20240507T163000
DTEND;TZID=Europe/Prague:20240507T180000
DTSTAMP:20260420T040653
CREATED:20240424T075249Z
LAST-MODIFIED:20240424T075331Z
UID:5572-1715099400-1715104800@brabrouci.cz
SUMMARY:Vlajkovaná
DESCRIPTION:Kobylky a Vážky se mohou zúčastnit mezioddílové hry po Brně s názvem Vlajkovaná. Hra začíná v 16:30 v Brně na náměstí Svobody.\nVíce informací můžeš získat u svého družinkového vedoucího. \n 
URL:https://brabrouci.cz/akce/vlajkovana-2/
ATTACH;FMTTYPE=image/png:https://brabrouci.cz/wp-content/uploads/2024/03/vlajkovana.png
END:VEVENT
BEGIN:VEVENT
DTSTART;TZID=Europe/Prague:20240427T000000
DTEND;TZID=Europe/Prague:20240427T235959
DTSTAMP:20260420T040653
CREATED:20231211T152001Z
LAST-MODIFIED:20240424T075632Z
UID:5281-1714176000-1714262399@brabrouci.cz
SUMMARY:Setonův závod
DESCRIPTION:Na akci se už přihlásili:Kuke  Budik  Veronika  Kafe Katka  Jakub  Anna  Jelen  Gabriela  Míša  Kristýnka  Koník  Minidino  Ance  Eliška  verča  Marie  Barča  Vojta  Sašetka  Žirafka  ŠIMON
URL:https://brabrouci.cz/akce/setonuv-zavod/
END:VEVENT
BEGIN:VEVENT
DTSTART;TZID=Europe/Prague:20240405T000000
DTEND;TZID=Europe/Prague:20240407T235959
DTSTAMP:20260420T040653
CREATED:20231211T151421Z
LAST-MODIFIED:20240318T145608Z
UID:5279-1712275200-1712534399@brabrouci.cz
SUMMARY:"Březnový výlet"
DESCRIPTION:Na akci se už přihlásili:Matyáš  Míša  Marie  Tom  Paša  Erik  Rastislav  Vojta  Žirafka  Sašetka a Berto  Jakub  Eliška  Krtek  Ondřej  Ance  Maky  Smíšek  Anna  Anna  Katka Kafe  Kuke  David - moták  Antonín  Valentýna  Veronika Špion  Gabriela  Barča  Batman  Kryštof  Budik  Verča
URL:https://brabrouci.cz/akce/breznovy-vylet/
END:VEVENT
BEGIN:VEVENT
DTSTART;TZID=Europe/Prague:20240403T163000
DTEND;TZID=Europe/Prague:20240403T180000
DTSTAMP:20260420T040654
CREATED:20240322T121256Z
LAST-MODIFIED:20240424T075019Z
UID:5527-1712161800-1712167200@brabrouci.cz
SUMMARY:Vlajkovaná
DESCRIPTION:Kobylky a Vážky se mohou zúčastnit mezioddílové hry po Brně s názvem Vlajkovaná. Hra začíná v 16:30 v Brně na náměstí Svobody.\nVíce informací můžeš získat u svého družinkového vedoucího. \n  \n\n\n\n			Na akci se už přihlásili:\n				Přihlas se jako první!
URL:https://brabrouci.cz/akce/vlajkovana/
ATTACH;FMTTYPE=image/png:https://brabrouci.cz/wp-content/uploads/2024/03/vlajkovana.png
END:VEVENT
BEGIN:VEVENT
DTSTART;TZID=Europe/Prague:20240323T000000
DTEND;TZID=Europe/Prague:20240323T235959
DTSTAMP:20260420T040654
CREATED:20240114T111202Z
LAST-MODIFIED:20240114T115315Z
UID:5350-1711152000-1711238399@brabrouci.cz
SUMMARY:Ukliďme Česko 2024
DESCRIPTION:
URL:https://brabrouci.cz/akce/uklidme-cesko-2024/
ATTACH;FMTTYPE=image/png:https://brabrouci.cz/wp-content/uploads/2024/01/USUC-2016_BIG_300dpi-1.png
END:VEVENT
BEGIN:VEVENT
DTSTART;TZID=Europe/Prague:20240316T093000
DTEND;TZID=Europe/Prague:20240316T160000
DTSTAMP:20260420T040654
CREATED:20231211T151219Z
LAST-MODIFIED:20240313T073329Z
UID:5277-1710581400-1710604800@brabrouci.cz
SUMMARY:Včeliččí výlet
DESCRIPTION:
URL:https://brabrouci.cz/akce/vcelicci-vylet/
END:VEVENT
BEGIN:VEVENT
DTSTART;TZID=Europe/Prague:20240301T000000
DTEND;TZID=Europe/Prague:20240303T235959
DTSTAMP:20260420T040654
CREATED:20231211T150923Z
LAST-MODIFIED:20231211T150923Z
UID:5275-1709251200-1709510399@brabrouci.cz
SUMMARY:Vážčí víkend s Fénixem
DESCRIPTION:Více informací později.
URL:https://brabrouci.cz/akce/vazci-vikend-s-fenixem/
END:VEVENT
BEGIN:VEVENT
DTSTART;TZID=Europe/Prague:20240224T090000
DTEND;TZID=Europe/Prague:20240224T170000
DTSTAMP:20260420T040654
CREATED:20230921T141232Z
LAST-MODIFIED:20240125T094934Z
UID:5004-1708765200-1708794000@brabrouci.cz
SUMMARY:Dračí smyčka
DESCRIPTION:Na akci se už přihlásili:Matěj  Dino  Minidino  Verča  Tom  Tomáš  Hana  Anna  Valentýna  Honzík  Anna ´´Dory´´  Melisa  Barca  Gabriela  Kafe  Žirafka  Filda  Tučňák  Ance  Moták  Samuel  Danča  Míša  Marie  Rastislav  Kristýnka  Koník  Telka  Hříbě  Eliška  Sašetka  Vojta  Veronika
URL:https://brabrouci.cz/akce/draci-smycka/
ATTACH;FMTTYPE=image/png:https://brabrouci.cz/wp-content/uploads/2023/09/draci_24.png
END:VEVENT
BEGIN:VEVENT
DTSTART;TZID=Europe/Prague:20240202T000000
DTEND;TZID=Europe/Prague:20240202T235959
DTSTAMP:20260420T040654
CREATED:20230921T141110Z
LAST-MODIFIED:20240130T182411Z
UID:5002-1706832000-1706918399@brabrouci.cz
SUMMARY:Ledové město
DESCRIPTION:Na akci se už přihlásili:Gabca  Agent  Danča  Smíšek  Jelen  Markéta  Žirafka  Otakar  Sašetka a Berto  Marie  Verča  Sofie  Antonín  Samuel  Kafe  Filip  Kristýnka  Sabina  Tom  David  Barča  Veronika  Vojta  Puštík  Hříbě  Hana  Anna  Emma  Edgar  David - Moták  Tom  Jakub  Melisa  Honzík
URL:https://brabrouci.cz/akce/ledove-mesto/
ATTACH;FMTTYPE=image/png:https://brabrouci.cz/wp-content/uploads/2023/09/ledove_brno_2024.png
END:VEVENT
BEGIN:VEVENT
DTSTART;TZID=Europe/Prague:20240106T083000
DTEND;TZID=Europe/Prague:20240106T180000
DTSTAMP:20260420T040654
CREATED:20230921T140924Z
LAST-MODIFIED:20231211T140000Z
UID:5000-1704529800-1704564000@brabrouci.cz
SUMMARY:Lednový výlet
DESCRIPTION:Na akci se už přihlásili:Kuke  Agent  Míša  Markétka  Jakub  Barča  Helena  Hana  Anna  Tom  Edgar  Maky  Rasťo  Vojta  Kečup  Erik  Melisa  Markétka  Filip  Eliška  Tomáš  Filip  Marie  Veronika  Kafe  Sofie  Patrik  Valentýna  Žirafka  Koník
URL:https://brabrouci.cz/akce/lednovy-vylet/
END:VEVENT
BEGIN:VEVENT
DTSTART;TZID=Europe/Prague:20231208T163000
DTEND;TZID=Europe/Prague:20231210T180000
DTSTAMP:20260420T040654
CREATED:20230921T140848Z
LAST-MODIFIED:20231211T140621Z
UID:4998-1702053000-1702231200@brabrouci.cz
SUMMARY:Vánočka
DESCRIPTION:
URL:https://brabrouci.cz/akce/vanocka/
END:VEVENT
BEGIN:VEVENT
DTSTART;TZID=Europe/Prague:20231126T093000
DTEND;TZID=Europe/Prague:20231126T161600
DTSTAMP:20260420T040654
CREATED:20231113T201740Z
LAST-MODIFIED:20231205T153741Z
UID:5141-1700991000-1701015360@brabrouci.cz
SUMMARY:Rozdělený výlet - bělásci
DESCRIPTION:Na akci se už přihlásili:Barča Duchoňová Filip Opluštil Maky Holíková Anna Mlčůchová Valentýna Šinkovicová Budík Karel Zapletal
URL:https://brabrouci.cz/akce/rozdeleny-vylet-belasci/
END:VEVENT
BEGIN:VEVENT
DTSTART;TZID=Europe/Prague:20231126T081500
DTEND;TZID=Europe/Prague:20231126T161000
DTSTAMP:20260420T040654
CREATED:20231110T135213Z
LAST-MODIFIED:20231110T135213Z
UID:5117-1700986500-1701015000@brabrouci.cz
SUMMARY:Rozdělený výlet - BERUŠKY
DESCRIPTION:
URL:https://brabrouci.cz/akce/rozdeleny-vylet-berusky/
END:VEVENT
BEGIN:VEVENT
DTSTART;TZID=Europe/Prague:20231125T090000
DTEND;TZID=Europe/Prague:20231126T090000
DTSTAMP:20260420T040654
CREATED:20230921T140802Z
LAST-MODIFIED:20231110T134408Z
UID:4996-1700902800-1700989200@brabrouci.cz
SUMMARY:Rozdělený výlet - VČELIČKY
DESCRIPTION:
URL:https://brabrouci.cz/akce/rozdeleny-vylet-vcelicky/
END:VEVENT
BEGIN:VEVENT
DTSTART;TZID=Europe/Prague:20231125T083000
DTEND;TZID=Europe/Prague:20231125T180000
DTSTAMP:20260420T040654
CREATED:20231113T200712Z
LAST-MODIFIED:20231113T200712Z
UID:5134-1700901000-1700935200@brabrouci.cz
SUMMARY:Rozdělený výlet - vážky
DESCRIPTION:
URL:https://brabrouci.cz/akce/rozdeleny-vylet-vazky/
END:VEVENT
BEGIN:VEVENT
DTSTART;TZID=Europe/Prague:20231125T082000
DTEND;TZID=Europe/Prague:20231125T170000
DTSTAMP:20260420T040654
CREATED:20231113T201135Z
LAST-MODIFIED:20231113T201223Z
UID:5138-1700900400-1700931600@brabrouci.cz
SUMMARY:Rozdělený výlet - tesaříci
DESCRIPTION:
URL:https://brabrouci.cz/akce/rozdeleny-vylet-tesarici/
END:VEVENT
BEGIN:VEVENT
DTSTART;TZID=Europe/Prague:20231125T073000
DTEND;TZID=Europe/Prague:20231125T170000
DTSTAMP:20260420T040654
CREATED:20231110T135003Z
LAST-MODIFIED:20231110T135027Z
UID:5114-1700897400-1700931600@brabrouci.cz
SUMMARY:Rozdělený výlet - KOBYLKY
DESCRIPTION:
URL:https://brabrouci.cz/akce/rozdeleny-vylet-kobylky/
END:VEVENT
BEGIN:VEVENT
DTSTART;TZID=Europe/Prague:20231025T154000
DTEND;TZID=Europe/Prague:20231029T164000
DTSTAMP:20260420T040654
CREATED:20230905T183721Z
LAST-MODIFIED:20231009T173811Z
UID:4899-1698248400-1698597600@brabrouci.cz
SUMMARY:Podzimky
DESCRIPTION:
URL:https://brabrouci.cz/akce/podzimky/
END:VEVENT
BEGIN:VEVENT
DTSTART;TZID=Europe/Prague:20231012T163000
DTEND;TZID=Europe/Prague:20231012T183000
DTSTAMP:20260420T040654
CREATED:20230905T202847Z
LAST-MODIFIED:20230926T184810Z
UID:4920-1697128200-1697135400@brabrouci.cz
SUMMARY:72 hodin
DESCRIPTION:
URL:https://brabrouci.cz/akce/72-hodin/
END:VEVENT
BEGIN:VEVENT
DTSTART;TZID=Europe/Prague:20231008T090000
DTEND;TZID=Europe/Prague:20231008T140000
DTSTAMP:20260420T040654
CREATED:20230921T104259Z
LAST-MODIFIED:20230921T104940Z
UID:4991-1696755600-1696773600@brabrouci.cz
SUMMARY:Výlet nové družinky
DESCRIPTION:První výlet pro naše nejmenší brabroučata. 🙂
URL:https://brabrouci.cz/akce/vylet-nove-druzinky/
END:VEVENT
BEGIN:VEVENT
DTSTART;TZID=Europe/Prague:20231007T000000
DTEND;TZID=Europe/Prague:20231007T235959
DTSTAMP:20260420T040654
CREATED:20230905T182313Z
LAST-MODIFIED:20231005T103105Z
UID:4896-1696636800-1696723199@brabrouci.cz
SUMMARY:Orientační běh
DESCRIPTION:
URL:https://brabrouci.cz/akce/orientacni-beh/
END:VEVENT
BEGIN:VEVENT
DTSTART;TZID=Europe/Prague:20230919T160000
DTEND;TZID=Europe/Prague:20230919T200000
DTSTAMP:20260420T040654
CREATED:20230904T154752Z
LAST-MODIFIED:20230906T061440Z
UID:4892-1695139200-1695153600@brabrouci.cz
SUMMARY:Vítání školního roku 2023/2024
DESCRIPTION:
URL:https://brabrouci.cz/akce/zahajeni-skolniho-roku-2023-2024/
END:VEVENT
BEGIN:VEVENT
DTSTART;TZID=Europe/Prague:20230918T000000
DTEND;TZID=Europe/Prague:20230921T235959
DTSTAMP:20260420T040654
CREATED:20230905T201304Z
LAST-MODIFIED:20230905T201903Z
UID:4918-1694995200-1695340799@brabrouci.cz
SUMMARY:Schůzky v nových termínech
DESCRIPTION:Schůzky budou probíhat v termínech\, které se děti dozví v předchozím týdnu.
URL:https://brabrouci.cz/akce/schuzky-v-novych-terminech/
END:VEVENT
BEGIN:VEVENT
DTSTART;TZID=Europe/Prague:20230911T000000
DTEND;TZID=Europe/Prague:20230914T235959
DTSTAMP:20260420T040654
CREATED:20230905T201107Z
LAST-MODIFIED:20230905T201156Z
UID:4914-1694390400-1694735999@brabrouci.cz
SUMMARY:Schůzky v původních termínech
DESCRIPTION:PONDĚLÍ:\n17:30-18:30 Bělásci \nÚTERÝ:\n18:00-20:00 Včeličky \nSTŘEDA:\n16:30-18:00 Berušky\n18:00-20:00 Vážky \nČTVRTEK:\n17:30-19:30 Kobylky
URL:https://brabrouci.cz/akce/schuzky-v-puvodnich-terminech/
END:VEVENT
BEGIN:VEVENT
DTSTART;TZID=Europe/Prague:20200616T160000
DTEND;TZID=Europe/Prague:20200616T200000
DTSTAMP:20260420T040654
CREATED:20200330T112923Z
LAST-MODIFIED:20200330T113019Z
UID:286-1592323200-1592337600@brabrouci.cz
SUMMARY:Rozloučení se školním rokem
DESCRIPTION:mlkdslkJDSlADnmx\,x
URL:https://brabrouci.cz/akce/rozlouceni-se-skolnim-rokem/
LOCATION:Pod Kaštany
END:VEVENT
END:VCALENDAR