BEGIN:VCALENDAR
VERSION:2.0
PRODID:-//66. PTO Brabrouci - ECPv6.15.13//NONSGML v1.0//EN
CALSCALE:GREGORIAN
METHOD:PUBLISH
X-WR-CALNAME:66. PTO Brabrouci
X-ORIGINAL-URL:https://brabrouci.cz
X-WR-CALDESC:Akce na 66. PTO Brabrouci
REFRESH-INTERVAL;VALUE=DURATION:PT1H
X-Robots-Tag:noindex
X-PUBLISHED-TTL:PT1H
BEGIN:VTIMEZONE
TZID:Europe/Prague
BEGIN:DAYLIGHT
TZOFFSETFROM:+0100
TZOFFSETTO:+0200
TZNAME:CEST
DTSTART:20230326T010000
END:DAYLIGHT
BEGIN:STANDARD
TZOFFSETFROM:+0200
TZOFFSETTO:+0100
TZNAME:CET
DTSTART:20231029T010000
END:STANDARD
BEGIN:DAYLIGHT
TZOFFSETFROM:+0100
TZOFFSETTO:+0200
TZNAME:CEST
DTSTART:20240331T010000
END:DAYLIGHT
BEGIN:STANDARD
TZOFFSETFROM:+0200
TZOFFSETTO:+0100
TZNAME:CET
DTSTART:20241027T010000
END:STANDARD
BEGIN:DAYLIGHT
TZOFFSETFROM:+0100
TZOFFSETTO:+0200
TZNAME:CEST
DTSTART:20250330T010000
END:DAYLIGHT
BEGIN:STANDARD
TZOFFSETFROM:+0200
TZOFFSETTO:+0100
TZNAME:CET
DTSTART:20251026T010000
END:STANDARD
BEGIN:DAYLIGHT
TZOFFSETFROM:+0100
TZOFFSETTO:+0200
TZNAME:CEST
DTSTART:20260329T010000
END:DAYLIGHT
BEGIN:STANDARD
TZOFFSETFROM:+0200
TZOFFSETTO:+0100
TZNAME:CET
DTSTART:20261025T010000
END:STANDARD
BEGIN:DAYLIGHT
TZOFFSETFROM:+0100
TZOFFSETTO:+0200
TZNAME:CEST
DTSTART:20270328T010000
END:DAYLIGHT
BEGIN:STANDARD
TZOFFSETFROM:+0200
TZOFFSETTO:+0100
TZNAME:CET
DTSTART:20271031T010000
END:STANDARD
END:VTIMEZONE
BEGIN:VEVENT
DTSTART;TZID=Europe/Prague:20260411T000000
DTEND;TZID=Europe/Prague:20260411T235959
DTSTAMP:20260420T033453
CREATED:20260315T161703Z
LAST-MODIFIED:20260327T113913Z
UID:6848-1775865600-1775951999@brabrouci.cz
SUMMARY:Ukliďme Česko
DESCRIPTION:Na akci se už přihlásili:Alex  Agent  Minidino  Gabriela  Expert  Vojta  Ruda  Kamil  Špion  Svízel
URL:https://brabrouci.cz/akce/uklidme-cesko-2/
END:VEVENT
BEGIN:VEVENT
DTSTART;TZID=Europe/Prague:20260321T075500
DTEND;TZID=Europe/Prague:20260321T171700
DTSTAMP:20260420T033453
CREATED:20260306T114755Z
LAST-MODIFIED:20260318T171750Z
UID:6835-1774079700-1774113420@brabrouci.cz
SUMMARY:Partyzáni 2
DESCRIPTION:Na akci se už přihlásili:Kuba  Janička  Batman  Viktoria  Dino  Emma  Zvěd  Maky  Sultán  Naďa  Krystof  Rasťo  Kolombo  Sofča  Emma a Nella  Filip  Svízel  Expert  Krtek  Melisa a Erik  Daniel  Vojta  Gabriela  Agent  Jakub  Ruda  Vala  Eda  Pískle  Alen
URL:https://brabrouci.cz/akce/partyzani-2/
END:VEVENT
BEGIN:VEVENT
DTSTART;TZID=Europe/Prague:20260228T084500
DTEND;TZID=Europe/Prague:20260228T170000
DTSTAMP:20260420T033453
CREATED:20260205T172007Z
LAST-MODIFIED:20260209T193358Z
UID:6791-1772268300-1772298000@brabrouci.cz
SUMMARY:Dračí smyčka
DESCRIPTION:Nezapomeň se přihlásit také na Trénink na dračí smyčku! \nNa akci se už přihlásili:Alen  Matěj  Jakub  Pískle  Filip  Veronika  Expert  Míša  Svízel  Danča  Sofča  Emma a Nella  Melisa a Erik  Domněnka  Žirafka  Erik  Tučňák  Batman  Kuba  Šimon  Jakub  Ruda  Sultán  Daniel  Tom  Eda  Stelča  Koloušek  Janička  Zvěd  Vojta
URL:https://brabrouci.cz/akce/draci-smycka-2/
ATTACH;FMTTYPE=image/png:https://brabrouci.cz/wp-content/uploads/2023/09/draci_24.png
END:VEVENT
BEGIN:VEVENT
DTSTART;TZID=Europe/Prague:20260227T160000
DTEND;TZID=Europe/Prague:20260227T170000
DTSTAMP:20260420T033453
CREATED:20260205T172947Z
LAST-MODIFIED:20260216T121851Z
UID:6797-1772208000-1772211600@brabrouci.cz
SUMMARY:Trénink na dračí smyčku
DESCRIPTION:Na akci se už přihlásili:Alen  Kuba  Ruda  Sultán  Daniel  Eda  Emma a Nella  Žirafka  Pískle  Filip  Expert  Míša  Stelča  Sofča  Melisa a Erik  Vojta
URL:https://brabrouci.cz/akce/trenink-na-draci-smycku/
END:VEVENT
BEGIN:VEVENT
DTSTART;TZID=Europe/Prague:20260130T071500
DTEND;TZID=Europe/Prague:20260201T170000
DTSTAMP:20260420T033453
CREATED:20260110T175930Z
LAST-MODIFIED:20260110T183922Z
UID:6770-1769757300-1769965200@brabrouci.cz
SUMMARY:Ledová Praha
DESCRIPTION:Na akci se už přihlásili:Tučňák  Svízel  Erik  Šimon  Agent  Kafe  Žirafka  Jakub  Lukaš  Anče  Minidino  Míša  Alen  Smíšek  Gabriela  Domněnka  Filip  Sofča  Maky  Budík
URL:https://brabrouci.cz/akce/ledova-praha/
END:VEVENT
BEGIN:VEVENT
DTSTART;TZID=Europe/Prague:20260110T083000
DTEND;TZID=Europe/Prague:20260110T190000
DTSTAMP:20260420T033453
CREATED:20251230T210646Z
LAST-MODIFIED:20260107T080619Z
UID:6748-1768033800-1768071600@brabrouci.cz
SUMMARY:Lednový výlet
DESCRIPTION:Na akci se už přihlásili:Gabriela  Erik  Zvěd  Alen  Expert  Emma a Nella  Maky  Daniel  Kuba  Stelča  Domněnka  Alen  Klárka Špačková  Sofča  Krtek
URL:https://brabrouci.cz/akce/lednovy-vylet-3/
END:VEVENT
BEGIN:VEVENT
DTSTART;TZID=Europe/Prague:20251212T000000
DTEND;TZID=Europe/Prague:20251214T235959
DTSTAMP:20260420T033453
CREATED:20250916T151216Z
LAST-MODIFIED:20251208T175946Z
UID:6612-1765497600-1765756799@brabrouci.cz
SUMMARY:Vánočka
DESCRIPTION:Na akci se už přihlásili:Jakub  Kamil  Pískle  Agent  Batman  Zvěd  Kolousek  Žirafka  Krtek  Vala  Kryštof  Expert  Danča  Alen  Ruda  Míša  Šimon  Domněnka  Vojta  Alex ( Brumík)  Zora  Emma a Nella  Kolombo  Maky
URL:https://brabrouci.cz/akce/vanocka-3/
END:VEVENT
BEGIN:VEVENT
DTSTART;TZID=Europe/Prague:20251123T080000
DTEND;TZID=Europe/Prague:20251123T170000
DTSTAMP:20260420T033453
CREATED:20251110T122359Z
LAST-MODIFIED:20251112T200821Z
UID:6695-1763884800-1763917200@brabrouci.cz
SUMMARY:Rozdělený výlet - Rákosníčci
DESCRIPTION:Na akci se už přihlásili:Kamil  Emma  Janička  Matěj  Zora  Anče  Erik  Daniel
URL:https://brabrouci.cz/akce/rozdeleny-vylet-rakosnicci/
END:VEVENT
BEGIN:VEVENT
DTSTART;TZID=Europe/Prague:20251122T083000
DTEND;TZID=Europe/Prague:20251122T170000
DTSTAMP:20260420T033453
CREATED:20251110T115259Z
LAST-MODIFIED:20251110T115827Z
UID:6682-1763800200-1763830800@brabrouci.cz
SUMMARY:Rozdělený výlet - Tesaříci
DESCRIPTION:Na akci se už přihlásili:Rasťo  Vojta  Naďa  Edgar  Nella
URL:https://brabrouci.cz/akce/rozdeleny-vylet-tesarici-3/
END:VEVENT
BEGIN:VEVENT
DTSTART;TZID=Europe/Prague:20251122T083000
DTEND;TZID=Europe/Prague:20251122T160000
DTSTAMP:20260420T033453
CREATED:20251110T114008Z
LAST-MODIFIED:20251110T115105Z
UID:6674-1763800200-1763827200@brabrouci.cz
SUMMARY:Rozdělený výlet - Berušky
DESCRIPTION:Na akci se už přihlásili:Alen  Pískle  Marek  Dino  Sofie  Melisa
URL:https://brabrouci.cz/akce/rozdeleny-vylet-berusky-3/
END:VEVENT
BEGIN:VEVENT
DTSTART;TZID=Europe/Prague:20251122T080000
DTEND;TZID=Europe/Prague:20251122T180000
DTSTAMP:20260420T033453
CREATED:20251110T115940Z
LAST-MODIFIED:20251111T170958Z
UID:6690-1763798400-1763834400@brabrouci.cz
SUMMARY:Rozdělený výlet - Bělásci
DESCRIPTION:Na akci se už přihlásili:Vala  Koloušek  Zvěd  Emma  Expert
URL:https://brabrouci.cz/akce/rozdeleny-vylet-belasci-3/
END:VEVENT
BEGIN:VEVENT
DTSTART;TZID=Europe/Prague:20251122T080000
DTEND;TZID=Europe/Prague:20251122T170000
DTSTAMP:20260420T033453
CREATED:20250916T151117Z
LAST-MODIFIED:20251110T115055Z
UID:6610-1763798400-1763830800@brabrouci.cz
SUMMARY:Rozdělený výlet - Včeličky
DESCRIPTION:Na akci se už přihlásili:Šimon  Maty  Krtek  Tučňák  Míša  Domněnka
URL:https://brabrouci.cz/akce/rozdeleny-vylet/
END:VEVENT
BEGIN:VEVENT
DTSTART;TZID=Europe/Prague:20251024T000000
DTEND;TZID=Europe/Prague:20251028T235959
DTSTAMP:20260420T033453
CREATED:20250916T150925Z
LAST-MODIFIED:20251020T182522Z
UID:6608-1761264000-1761695999@brabrouci.cz
SUMMARY:Podzimky
DESCRIPTION:Na akci se už přihlásili:Tereza  Tučňák  Alen  Čvachta  Jakub  Sofča  Vala  Minidino  Kafe  Ondřej Kolombo  Dino  Svízel  Sašetka  Míša  Zvěd  Domněnka  Maky  Ance  Šimon  Batman  Smíšek  Edgar  Sultán  Gabriela  Budík  Kryštof  Vojta  Žirafka  Krťa  Emma  Hanča  Janička  Expert
URL:https://brabrouci.cz/akce/podzimky-3/
END:VEVENT
BEGIN:VEVENT
DTSTART;TZID=Europe/Prague:20251015T154000
DTEND;TZID=Europe/Prague:20251015T190000
DTSTAMP:20260420T033453
CREATED:20250916T150724Z
LAST-MODIFIED:20250930T094856Z
UID:6606-1760542800-1760554800@brabrouci.cz
SUMMARY:72 hodin
DESCRIPTION:Na akci se už přihlásili:Alex  Pískle  Erik  Žirafka  Ema  ondra  Erik  Expert  Vojta  Maky
URL:https://brabrouci.cz/akce/72-hodin-3/
END:VEVENT
BEGIN:VEVENT
DTSTART;TZID=Europe/Prague:20251011T000000
DTEND;TZID=Europe/Prague:20251011T235959
DTSTAMP:20260420T033453
CREATED:20250916T150452Z
LAST-MODIFIED:20250923T083534Z
UID:6604-1760140800-1760227199@brabrouci.cz
SUMMARY:Orientační běh - závod Zelené ligy
DESCRIPTION:Na akci se už přihlásili:Tom  Rasťo  Tomáš  Erik  Dino  Telka  Jakub  Zvěd  Erik  Melisa  Ondřej Kolombo  Verča  Žirafka  Danča  Valentýna  Erik  Smíšek  Šimon  Jana  Domněnka  Míša  Naďa  Kryštof  Markétka  Vojta
URL:https://brabrouci.cz/akce/orientacni-beh-zavod-zelene-ligy/
END:VEVENT
BEGIN:VEVENT
DTSTART;TZID=Europe/Prague:20250921T080000
DTEND;TZID=Europe/Prague:20250921T170000
DTSTAMP:20260420T033453
CREATED:20250907T132222Z
LAST-MODIFIED:20250908T192420Z
UID:6425-1758441600-1758474000@brabrouci.cz
SUMMARY:Trénink na orientační běh & Zahájení školního roku
DESCRIPTION:Na akci se už přihlásili:Danča  Filip  Pískle  Expert  Maky  Eliška  Naďa  Míša  Kuba  Šimon  Matěj  Vojta  Matěj
URL:https://brabrouci.cz/akce/trenink-na-orientacni-beh-zahajeni-skolniho-roku/
ATTACH;FMTTYPE=image/png:https://brabrouci.cz/wp-content/uploads/2025/09/trnene.png
END:VEVENT
BEGIN:VEVENT
DTSTART;TZID=Europe/Prague:20250827T000000
DTEND;TZID=Europe/Prague:20250831T235959
DTSTAMP:20260420T033453
CREATED:20250331T120909Z
LAST-MODIFIED:20250819T110638Z
UID:6168-1756252800-1756684799@brabrouci.cz
SUMMARY:Voda 2025 - ZRUŠENO
DESCRIPTION:Z důvodu malého zájmu akce zrušena.
URL:https://brabrouci.cz/akce/voda-2025/
END:VEVENT
BEGIN:VEVENT
DTSTART;TZID=Europe/Prague:20250726T000000
DTEND;TZID=Europe/Prague:20250809T235959
DTSTAMP:20260420T033453
CREATED:20250331T115748Z
LAST-MODIFIED:20250807T193221Z
UID:6163-1753488000-1754783999@brabrouci.cz
SUMMARY:Letní tábor: SMILE s.r.o.
DESCRIPTION:Letošní tábor se uskuteční v termínu na tábořišti v Dolní Libochové. Tentokrát se děti vydají do hlubokého vesmíru ve snaze uniknout chamtivým intrikám intergalaktického korporátu SMILE s.r.o. Všechny informace\, které potřebujete znát\, naleznete níže. \nTermín tábora: 26. 7. – 9. 8. 2025 \nPoštovní adresa:\nSmile s.r.o. – Brabrouci\nBenešovo náměstí 12\n594 51 Křižanov \nHlavní vedoucí:\nVeronika Obdržálková\nspion@brabrouci.cz\ntel.: 736 208 026 \nPředtáborová schůzka se uskuteční ve středu 18. 6. a čtvrtek 19. 6. 2025 od 18:30 v naší klubovně. \nSraz k odjezdu: Sobota 26. 7. 2025 před školou na ulici Komenského v 11:00. \nPříjezd: Sobota 9. 8. před školou na ulici Komenského okolo 11:30. \nCo ještě před odjezdem?\nVyplnit online formulář včetně nahrání scanu Posudku o zdravotní způsobilosti dítěte k účasti na zotavovací akci a škole v přírodě do 7. 7. 2025. \n\nPosudek nesmí být starší než 2 roky\nPosudek musí být podepsán registrujícím praktickým lékařem\nLze využít vzor posudku pro lékaře: PDF\, docx\n\nCo na sraz?\n\nCestovní taška (případně kufr) se sbalenými věcmi ze seznamu\nMalý batůžek na záda a v něm: pláštěnka\, KPZ\, svačina\, oběd (jídlo na táboře začne večeří)\, pití v umělohmotné láhvi (minimálně 1\,5 litru)\, sluneční brýle\nPrázdný padnoucí batoh s bederním popruhem na dvoudenní putování\nspacák\, karimatka (samostatně\, pokud se nevejde do velkého zavazadla\, NE v batohu na putování!)\nKartičku pojištěnce\nLéky\, které účastník užívá (žádné léky děti nebudou mít u sebe\, všechny léky pro dítě je nutné mít v uzavíratelném označeném obalu s označením a rozpisem užívání)\nNa odevzdání u autobusu: 3 ks toaletního papíru\nNa sebe: turistické boty (pohorky)\, dlouhé kalhoty (kraťasy)\, zelená košile a oddílový šátek (kdo nemá\, oddílové tričko)\, větrovka\, kšiltovka\n\n  \n\nNa srazu budou nachystány přihlášky na podpis včetně potvrzení bezinfekčnosti\n\nSeznam potřeb\nVšechny věci pečlivě označeny \n\npolštářek\, napínací prostěradlo\nobuv: holínky\, tenisky (botasky)\, sandály (všechno padnoucí\, ve správné velikosti)\nteplá bunda\, 2 mikiny (svetry)\nkraťasy (dlouhé kalhoty)\, 2 tepláky\ndlouhé kalhoty „slušné“ ke kroji\n2 kraťasy (pro pobyt na tábořišti)\n1 tričko dlouhý rukáv\, 4 trička krátký rukáv\noddílové nebo výroční tričko\nplavky\, pro neplavce křidýlka\nspodní prádlo\, ponožky\, pyžamo\nčepice\, rukavice\, šátek\nosuška\, ručník\, malý ručníček\nknížka\, oddílový deník\, oddílové písníky\, památník (kdo chce)\nplyšák\, tenisák\, hudební nástroj\, píšťalka\nkapesní nůž (funkční a ostrý)\, škrabka na brambory\nhrníček označený – min. 3 dcl\ntrojdílný ešus s příborem (kovový k vaření na ohni\, NE plastový)\ntoaletní potřeby: kartáček a pasta na zuby\, kelímek\, opalovací krém\, hřeben\, prostředek proti hmyzu\, (rovnátka – kdo nosí)\, sprchový gel a šampon zajistíme my (EKO přípravky šetrné k přírodě)\npsací potřeby: blok\, tužka\, propiska\, pastelky\, dopisy\, známky\, nůžky\, 2 ks obálek na dopisy s nadepsanou adresou\nuzlovačka\, baterka + náhradní baterie\, světýlko do stanu\nšitíčko\, elastické obinadlo\, švihadlo\, 5 m pevného provázku\nplátěný sáček na špinavé prádlo\, kapsář\nkapesné (max. 250 Kč)\, reflexní páska na batoh\ninstruktoři a děti starší 12 let sekeru v obalu\n\nKostýmy\nKaždý/á zaměstnanec/kyně si povinně přiveze bílý bavlněný nátělník. Ten bude po nástupu na pobočku označen barvou pracovní divize\, do které bude zaměstnanec/kyně přiřazen/a. Zbytek uniformy velkoryse poskytne společnost. \nSeznam potřeb společně s instrukcemi ke kostýmu ke stáhnutí zde. \nDalší informace\n\nNa táboře jsou pro účastníky zakázány mobilní telefony\, v případě nutnosti volejte hlavnímu vedoucímu.\nNedávejte dětem ani jiné cennosti.\nNa táboře nejsou povoleny návštěvy dětí.\n\nFinanční příspěvky na tábor:\nNa tábor můžete získat finanční příspěvek od pojišťovny\, zaměstnavatele či z projektu Darujeme kroužky dětem\, do kterého jsme zapojeni. Pokud budete potřebovat nějaké dokumenty potvrdit z naší strany\, neváhejte se na nás obrátit. Připojujeme rovněž seznam tipů\, kde získat příspěvky na dětský tábor.
URL:https://brabrouci.cz/akce/letni-tabor-smile-s-r-o/
ATTACH;FMTTYPE=image/jpeg:https://brabrouci.cz/wp-content/uploads/2025/03/smile-sro-e1743422858929.jpg
END:VEVENT
BEGIN:VEVENT
DTSTART;TZID=Europe/Prague:20250707T000000
DTEND;TZID=Europe/Prague:20250711T235959
DTSTAMP:20260420T033453
CREATED:20250211T132751Z
LAST-MODIFIED:20250213T110436Z
UID:6053-1751846400-1752278399@brabrouci.cz
SUMMARY:Příměstský tábor: Kocour v botách
DESCRIPTION:Příměstský tábor pro všechny holky a kluky ve věku 7-9 let. \nVydej se s námi na dobrodružnou výpravu plnou napětí\, her a zábavy! Společně navštívíme spoustu zajímavých míst\, kde prověříme svou odvahu a dovednosti – jedním z nich bude i Junglepark\, kde si vyzkoušíš dobrodružství v korunách stromů.\nPřidej se k nám! \nCena příměstského tábora činí 2 000 Kč (zahrnuje teplé obědy\, pitný režim\, materiál\, vstupné a jízdné\, zkušené vedoucí\, pojištění; dotováno MŠMT). Pokyny k platbě Vám zašleme na e-mail zadaný při vyplňování přihlášky. Po odeslání přihlášky Vám budeme po dobu 14 dnů rezervovat místo. Pokud v této době neobdržíme platbu\, uvolníme místo dalším zájemcům. \nTábor bude probíhat od pondělí do pátku v čase 8:00 – 17:00 v klubovně Brabrouků na modřické radnici (program 8:30 – 16:30). V závislosti na počasí budeme podnikat také venkovní aktivity. \nPřihlášku můžete vyplnit na tomto odkaze nejpozději do 31. 5. 2025 nebo do vyčerpání míst. Přihláška se stává závaznou provedením platby. Počet účastníků je omezen. \nDalší potřebné informace Vám zašleme e-mailem před konáním tábora. \nV případě dotazů kontaktujte Kláru Mazálkovou (Puštík) na pustik@brabrouci.cz či tel. čísle 777 266 152.
URL:https://brabrouci.cz/akce/primestsky-tabor-kocour-v-botach/
ATTACH;FMTTYPE=image/png:https://brabrouci.cz/wp-content/uploads/2025/02/kocour-v-botach-kocour-e1739444263149.png
END:VEVENT
BEGIN:VEVENT
DTSTART;TZID=Europe/Prague:20250615T090000
DTEND;TZID=Europe/Prague:20250615T170000
DTSTAMP:20260420T033453
CREATED:20250604T130912Z
LAST-MODIFIED:20250604T130912Z
UID:6363-1749978000-1750006800@brabrouci.cz
SUMMARY:Závěrečný výlet s rodiči
DESCRIPTION:Na akci se už přihlásili:Barca  Alen+Pískle+mamka  Emma  Jakub  Anče  Svízel a Scotty (taťka)  Žirafka + Vojta a spol.  Danča\, Tom a spol.  Filip
URL:https://brabrouci.cz/akce/zaverecny-vylet-s-rodici/
END:VEVENT
BEGIN:VEVENT
DTSTART;TZID=Europe/Prague:20250523T000000
DTEND;TZID=Europe/Prague:20250525T235959
DTSTAMP:20260420T033453
CREATED:20250206T070012Z
LAST-MODIFIED:20250514T163132Z
UID:6033-1747958400-1748217599@brabrouci.cz
SUMMARY:RESET
DESCRIPTION:  \nDo poznámky při přihlášení UVEĎ VELIKOST TRIČKA! \n    \n    \n  \n\nNa akci se už přihlásili:Sultán  Jakub  Tom  Ance  Čvachta  Tomáš  Gabriela  Patrik  Dominik  Hříbě  Maky  Domněnka  Šimon  Verča  Danča  Kafe  Puštík  Nikol  Budík  Erik  Paša  Špion  Míša  Žirafka
URL:https://brabrouci.cz/akce/reset/
END:VEVENT
BEGIN:VEVENT
DTSTART;TZID=Europe/Prague:20250518T090000
DTEND;TZID=Europe/Prague:20250518T170000
DTSTAMP:20260420T033453
CREATED:20250428T180643Z
LAST-MODIFIED:20250514T163304Z
UID:6310-1747558800-1747587600@brabrouci.cz
SUMMARY:Výlet mladších družinek
DESCRIPTION:Na akci se už přihlásili:Puštík  Kryštof  Zora  Nela  Zvěd  Vala  Ruda  Smíšek  KOLOUSEK  Ondřej  Sabina  Emma a Nella  Rasťo  Vojta  Maky
URL:https://brabrouci.cz/akce/vylet-mladsich-druzinek-2/
END:VEVENT
BEGIN:VEVENT
DTSTART;TZID=Europe/Prague:20250426T000000
DTEND;TZID=Europe/Prague:20250426T235959
DTSTAMP:20260420T033453
CREATED:20240916T091504Z
LAST-MODIFIED:20250417T125937Z
UID:5808-1745625600-1745711999@brabrouci.cz
SUMMARY:Setonův závod
DESCRIPTION:Na akci se už přihlásili:Marketka  Zvěd  pískle  Valentýna  Agent  ŠIMON  Vojta  Žirafka  Budík  Minidino  Verča  Domněnka  Rasťo  Expert (Ben)  Emma a Nella  Ondra  Míša  Kafe  Sašetka  Puštík
URL:https://brabrouci.cz/akce/setonuv-zavod-2/
END:VEVENT
BEGIN:VEVENT
DTSTART;TZID=Europe/Prague:20250329T090000
DTEND;TZID=Europe/Prague:20250329T150000
DTSTAMP:20260420T033453
CREATED:20240916T091346Z
LAST-MODIFIED:20250311T172523Z
UID:5806-1743238800-1743260400@brabrouci.cz
SUMMARY:Ukliďme Česko
DESCRIPTION:Na akci se už přihlásili:Telka  Ruda  Erik  Dino  Alex  Koník
URL:https://brabrouci.cz/akce/uklidme-cesko/
ATTACH;FMTTYPE=image/png:https://brabrouci.cz/wp-content/uploads/2024/09/uklidme-cesk-ptak-2-1.png
END:VEVENT
BEGIN:VEVENT
DTSTART;TZID=Europe/Prague:20250308T082500
DTEND;TZID=Europe/Prague:20250308T171700
DTSTAMP:20260420T033453
CREATED:20240916T091219Z
LAST-MODIFIED:20250225T225741Z
UID:5804-1741422300-1741454220@brabrouci.cz
SUMMARY:Partyzáni se vrací!
DESCRIPTION:Na akci se už přihlásili:Dino  Martina  Naďa  Erik  Patrik  Krtek  Filip  Marek  Vojta  Ondra +Šimon+ Kuba  Domněnka  Čvachta  Smíšek  Valentýna  Kafe  Filip  Tomáš  Otakar  Smíšek  Filip  Markétka  Žirafka  Zvěd  Špion  Maky  Anna
URL:https://brabrouci.cz/akce/breznovy-vylet-2/
END:VEVENT
BEGIN:VEVENT
DTSTART;TZID=Europe/Prague:20250222T065500
DTEND;TZID=Europe/Prague:20250222T184600
DTSTAMP:20260420T033453
CREATED:20240916T091023Z
LAST-MODIFIED:20250206T071230Z
UID:5801-1740207300-1740249960@brabrouci.cz
SUMMARY:Zabíjená
DESCRIPTION:Na akci se už přihlásili:Svízel  Erik  Anče  Jakub  Sofie  Hříbě  Markétka  Naďa  ŠIMON +Ondra+Kuba  Vojta  Míša  Zvěd  Maky  Sultán  Jakub  Filip  Eda  Krzek a Batman  Emma a Nella  Verča  Sašetka  Berto  Budík  Domněnka  Žirafka
URL:https://brabrouci.cz/akce/zabijena/
END:VEVENT
BEGIN:VEVENT
DTSTART;TZID=Europe/Prague:20250131T000000
DTEND;TZID=Europe/Prague:20250202T235959
DTSTAMP:20260420T033453
CREATED:20240916T090901Z
LAST-MODIFIED:20250113T171502Z
UID:5799-1738281600-1738540799@brabrouci.cz
SUMMARY:Ledové město
DESCRIPTION:Na akci se už přihlásili:Verča  Hříbě  Jakub  Žirafka  Tomáš  Kafe  Míša  Gabriela  Šimon  Minidino  Budík  Domněnka  Sultán  Dino  Betmen  Melisa  Sofie  Klára  Ondra  Anče  Krtek  Maky
URL:https://brabrouci.cz/akce/ledove-mesto-2/
END:VEVENT
BEGIN:VEVENT
DTSTART;TZID=Europe/Prague:20250111T073000
DTEND;TZID=Europe/Prague:20250111T190000
DTSTAMP:20260420T033453
CREATED:20240916T090746Z
LAST-MODIFIED:20241205T141422Z
UID:5797-1736580600-1736622000@brabrouci.cz
SUMMARY:Lednový výlet
DESCRIPTION:Na akci se už přihlásili:Domněnka  Berťa  Matyáš  Barča  Budík  Jakub  Sofie  Svízel  Žirafka  Naďa  Hříbě  Veronika  Sašetka  Smíšek  Maky a Ben  Jakub  Emma a Nella  Marek  Ondra +Šimon+ Kuba  Kafe  Vojta  Pušťa  Čvachta  Krtek
URL:https://brabrouci.cz/akce/lednovy-vylet-2/
END:VEVENT
BEGIN:VEVENT
DTSTART;TZID=Europe/Prague:20241206T000000
DTEND;TZID=Europe/Prague:20241208T235959
DTSTAMP:20260420T033453
CREATED:20240916T090636Z
LAST-MODIFIED:20241126T091542Z
UID:5795-1733443200-1733702399@brabrouci.cz
SUMMARY:Vánočka
DESCRIPTION:Na akci se už přihlásili:Kečup  Verča  Hana  Vojta  Valentýna  Kafe  Sultán  Alex  Tomáš  Emma  Dominik  Eliška  Dino  Maky  Gabriela  Lukaš  Karel  Koník  Domněnka  Anna  Žirafka  Tomáš  Rudolf (Marek)  Jakub  Míša  Naďa  Sofie  Barca  Smíšek  Paďa  Anna  Tereza Telka  Sašetka
URL:https://brabrouci.cz/akce/vanocka-2/
END:VEVENT
BEGIN:VEVENT
DTSTART;TZID=Europe/Prague:20241130T080000
DTEND;TZID=Europe/Prague:20241130T161700
DTSTAMP:20260420T033453
CREATED:20241108T150646Z
LAST-MODIFIED:20241110T172016Z
UID:5925-1732953600-1732983420@brabrouci.cz
SUMMARY:Rozdělený výlet - včeličky
DESCRIPTION:Na akci se už přihlásili:Tučňák  Krtek  Krtek  Nikola  Erik  Krtek  Michaela  ŠIMON
URL:https://brabrouci.cz/akce/rozdeleny-vylet-vcelicky-2/
END:VEVENT
END:VCALENDAR